BEGIN:VCALENDAR
VERSION:2.0
PRODID:-//Tukios.com/
BEGIN:VEVENT
UID:fe19a814-ce61-4810-9510-322a46401042@www.kunclfh.com
DTSTAMP:20260421T012941Z
DTSTART:20260422T153000Z
DTEND:20260422T163000Z
SUMMARY:Funeral Service
DESCRIPTION:
URL:https://www.kunclfh.com/obituaries/lyle-schwisow
LOCATION: 607 W 3rd St  Wilber NE 68465
GEO:40.4810944;-96.9671318
END:VEVENT
END:VCALENDAR