BEGIN:VCALENDAR
VERSION:2.0
PRODID:-//Tukios.com/
BEGIN:VEVENT
UID:c86f76dc-f506-4b4b-a0cd-3227447cebfd@www.kunclfh.com
DTSTAMP:20260421T012733Z
DTSTART:20260424T190000Z
DTEND:20260424T200000Z
SUMMARY:Celebration of Life
DESCRIPTION:
URL:https://www.kunclfh.com/obituaries/terry-hynek
LOCATION: 317 South Wilson Street  Wilber NE 68465
GEO:40.4807128;-96.9620971
END:VEVENT
END:VCALENDAR