BEGIN:VCALENDAR
VERSION:2.0
PRODID:-//Tukios.com/
BEGIN:VEVENT
UID:71dc7b2e-7a9e-4856-b92c-f54878986047@www.kunclfh.com
DTSTAMP:20260421T013202Z
DTSTART:20260502T150000Z
DTEND:20260502T170000Z
SUMMARY:Celebration of Life
DESCRIPTION:
URL:https://www.kunclfh.com/obituaries/vera-mazour
LOCATION: 131 W 12th St  Crete NE 68333
GEO:40.6239724;-96.9623059
END:VEVENT
END:VCALENDAR